BEGIN:VCALENDAR
PRODID:-//AT Content Types//AT Event//EN
VERSION:1.0
BEGIN:VEVENT
DTSTART:20150304T130000Z
DTEND:20150304T143000Z
DCREATED:20141126T103646Z
UID:ATEvent-76a05807349445c5bd61908d74c05e02
SEQUENCE:0
LAST-MODIFIED:20141126T103646Z
SUMMARY:ESP-MET
LOCATION:Lecture Room H
PRIORITY:3
TRANSP:0
END:VEVENT
END:VCALENDAR
