BEGIN:VCALENDAR
PRODID:-//AT Content Types//AT Event//EN
VERSION:1.0
BEGIN:VEVENT
DTSTART:20140425T070000Z
DTEND:20140425T083000Z
DCREATED:20140110T131735Z
UID:ATEvent-6d4a635e68424578983f50897ca144b4
SEQUENCE:0
LAST-MODIFIED:20140423T115259Z
SUMMARY:ESP-GS
LOCATION:Lecture Room H
PRIORITY:3
TRANSP:0
END:VEVENT
END:VCALENDAR
