BEGIN:VCALENDAR
PRODID:-//AT Content Types//AT Event//EN
VERSION:2.0
METHOD:PUBLISH
BEGIN:VEVENT
DTSTAMP:20260420T133525Z
CREATED:20140110T131735Z
UID:ATEvent-a48bd80a0ed44583b80b2e41e19a7d91
LAST-MODIFIED:20140110T131800Z
SUMMARY:ESP-GS
DTSTART:20140425T120000Z
DTEND:20140425T133000Z
LOCATION:Lecture Room H
CONTACT:A. Borghi
URL:https://diploma-clear.ictp.it/courses/weekly-schedule/lecture-room-h/lecture.2014-01-10.8552062410
CLASS:PUBLIC
END:VEVENT
END:VCALENDAR
