BEGIN:VCALENDAR
PRODID:-//AT Content Types//AT Event//EN
VERSION:1.0
BEGIN:VEVENT
DTSTART:20140401T120000Z
DTEND:20140401T133000Z
DCREATED:20140110T131443Z
UID:ATEvent-e63a7c80fa5943a0b7a738603b5e9181
SEQUENCE:0
LAST-MODIFIED:20140110T131458Z
SUMMARY:ESP-GS
LOCATION:Lecture Room H
PRIORITY:3
TRANSP:0
END:VEVENT
END:VCALENDAR
