BEGIN:VCALENDAR
PRODID:-//AT Content Types//AT Event//EN
VERSION:1.0
BEGIN:VEVENT
DTSTART:20140402T120000Z
DTEND:20140402T133000Z
DCREATED:20140110T131443Z
UID:ATEvent-a3d57af1dfce4b8b88646b6dc04d3409
SEQUENCE:0
LAST-MODIFIED:20140110T131443Z
SUMMARY:ESP-GS
LOCATION:Lecture Room H
PRIORITY:3
TRANSP:0
END:VEVENT
END:VCALENDAR
