BEGIN:VCALENDAR
PRODID:-//AT Content Types//AT Event//EN
VERSION:1.0
BEGIN:VEVENT
DTSTART:20140410T070000Z
DTEND:20140410T083000Z
DCREATED:20140109T103527Z
UID:ATEvent-950ea442b2164a21b67e2980ba764da8
SEQUENCE:0
LAST-MODIFIED:20140109T103527Z
SUMMARY:ESP-HYD
LOCATION:Lecture Room H
PRIORITY:3
TRANSP:0
END:VEVENT
END:VCALENDAR
