BEGIN:VCALENDAR
PRODID:-//AT Content Types//AT Event//EN
VERSION:2.0
METHOD:PUBLISH
BEGIN:VEVENT
DTSTAMP:20260425T200909Z
CREATED:20140109T103325Z
UID:ATEvent-f2c3d908d55d425aa76c256ea8fcbed2
LAST-MODIFIED:20140109T103325Z
SUMMARY:ESP-CD
DTSTART:20140401T090000Z
DTEND:20140401T103000Z
LOCATION:Lecture Room H
CONTACT:F. Kucharski
URL:https://diploma-clear.ictp.it/courses/weekly-schedule/lecture-room-h/lecture.2014-01-09.6052045259
CLASS:PUBLIC
END:VEVENT
END:VCALENDAR
