BEGIN:VCALENDAR
PRODID:-//AT Content Types//AT Event//EN
VERSION:2.0
METHOD:PUBLISH
BEGIN:VEVENT
DTSTAMP:20260423T040154Z
CREATED:20140109T103324Z
UID:ATEvent-cf47bc1790184aafa24123d814fbabdc
LAST-MODIFIED:20140317T134559Z
SUMMARY:ESP-CD
DTSTART:20140321T130000Z
DTEND:20140321T143000Z
LOCATION:Lecture Room H
CONTACT:F. Kucharski
URL:https://diploma-clear.ictp.it/courses/weekly-schedule/lecture-room-h/lecture.2014-01-09.6046692579
CLASS:PUBLIC
END:VEVENT
END:VCALENDAR
