BEGIN:VCALENDAR
PRODID:-//AT Content Types//AT Event//EN
VERSION:2.0
METHOD:PUBLISH
BEGIN:VEVENT
DTSTAMP:20260425T133502Z
CREATED:20140109T103324Z
UID:ATEvent-4e83b659692b4cb69840e60da31d6856
LAST-MODIFIED:20140109T103324Z
SUMMARY:ESP-CD
DTSTART:20140311T100000Z
DTEND:20140311T113000Z
LOCATION:Lecture Room H
CONTACT:F. Kucharski
URL:https://diploma-clear.ictp.it/courses/weekly-schedule/lecture-room-h/lecture.2014-01-09.6043987674
CLASS:PUBLIC
END:VEVENT
END:VCALENDAR
