BEGIN:VCALENDAR
PRODID:-//AT Content Types//AT Event//EN
VERSION:1.0
BEGIN:VEVENT
DTSTART:20140306T100000Z
DTEND:20140306T113000Z
DCREATED:20140109T103324Z
UID:ATEvent-5d50a7bb3d4748aa94615eb0e029f0a2
SEQUENCE:0
LAST-MODIFIED:20140109T103324Z
SUMMARY:ESP-CD
LOCATION:Lecture Room H
PRIORITY:3
TRANSP:0
END:VEVENT
END:VCALENDAR
