BEGIN:VCALENDAR
PRODID:-//AT Content Types//AT Event//EN
VERSION:1.0
BEGIN:VEVENT
DTSTART:20140307T130000Z
DTEND:20140307T143000Z
DCREATED:20140109T103324Z
UID:ATEvent-1db32ac876d148c8a3b5bb35c17284cb
SEQUENCE:0
LAST-MODIFIED:20140227T103330Z
SUMMARY:ESP-CD
LOCATION:Lecture Room H
PRIORITY:3
TRANSP:0
END:VEVENT
END:VCALENDAR
