BEGIN:VCALENDAR
PRODID:-//AT Content Types//AT Event//EN
VERSION:1.0
BEGIN:VEVENT
DTSTART:20140213T100000Z
DTEND:20140213T113000Z
DCREATED:20140109T103134Z
UID:ATEvent-ca24fb9ecd7e418c98fa27e6f30da0ba
SEQUENCE:0
LAST-MODIFIED:20140109T103134Z
SUMMARY:ESP-BC
LOCATION:Lecture Room H
PRIORITY:3
TRANSP:0
END:VEVENT
END:VCALENDAR
