BEGIN:VCALENDAR
PRODID:-//AT Content Types//AT Event//EN
VERSION:1.0
BEGIN:VEVENT
DTSTART:20140210T100000Z
DTEND:20140210T113000Z
DCREATED:20140109T102836Z
UID:ATEvent-42faa246d6544ed6ad5752cd8bb1b47e
SEQUENCE:0
LAST-MODIFIED:20140109T102836Z
SUMMARY:ESP-SEIS
LOCATION:Lecture Room H
PRIORITY:3
TRANSP:0
END:VEVENT
END:VCALENDAR
