BEGIN:VCALENDAR
PRODID:-//AT Content Types//AT Event//EN
VERSION:1.0
BEGIN:VEVENT
DTSTART:20131129T150000Z
DTEND:20131129T163000Z
DCREATED:20130820T123226Z
UID:ATEvent-309ae1441f664d92938aef819e06c498
SEQUENCE:0
LAST-MODIFIED:20130820T123226Z
SUMMARY:ESP-PA
LOCATION:Lecture Room H
PRIORITY:3
TRANSP:0
END:VEVENT
END:VCALENDAR
