BEGIN:VCALENDAR
PRODID:-//AT Content Types//AT Event//EN
VERSION:1.0
BEGIN:VEVENT
DTSTART:20131120T150000Z
DTEND:20131120T163000Z
DCREATED:20130820T123225Z
UID:ATEvent-7d2d4f50d9ea47fd89c38476f0bdc469
SEQUENCE:0
LAST-MODIFIED:20130820T123226Z
SUMMARY:ESP-PA
LOCATION:Lecture Room H
PRIORITY:3
TRANSP:0
END:VEVENT
END:VCALENDAR
