BEGIN:VCALENDAR
PRODID:-//AT Content Types//AT Event//EN
VERSION:1.0
BEGIN:VEVENT
DTSTART:20130917T120000Z
DTEND:20130917T133000Z
DCREATED:20130820T122617Z
UID:ATEvent-159cdd0aeb004170bc1f93aee7bcc5f8
SEQUENCE:0
LAST-MODIFIED:20130820T122617Z
SUMMARY:ESP-EST
LOCATION:Lecture Room H
PRIORITY:3
TRANSP:0
END:VEVENT
END:VCALENDAR
