BEGIN:VCALENDAR
PRODID:-//AT Content Types//AT Event//EN
VERSION:2.0
METHOD:PUBLISH
BEGIN:VEVENT
DTSTAMP:20260419T211340Z
CREATED:20130820T095602Z
UID:ATEvent-8f16c205a81641649891f1f623826ba4
LAST-MODIFIED:20130820T095602Z
SUMMARY:Computer Course
DTSTART:20130905T120000Z
DTEND:20130905T133000Z
LOCATION:Lecture Room H
URL:https://diploma-clear.ictp.it/courses/weekly-schedule/lecture-room-h/lecture.2013-08-20.5625871855
CLASS:PUBLIC
END:VEVENT
END:VCALENDAR
