BEGIN:VCALENDAR
PRODID:-//AT Content Types//AT Event//EN
VERSION:1.0
BEGIN:VEVENT
DTSTART:20131015T070000Z
DTEND:20131015T083000Z
DCREATED:20130820T122346Z
UID:ATEvent-04f82cff9c854ba7bea84eb4889e19d7
SEQUENCE:0
LAST-MODIFIED:20130820T122346Z
SUMMARY:ESP-FM
LOCATION:Lecture Room H
PRIORITY:3
TRANSP:0
END:VEVENT
END:VCALENDAR
