BEGIN:VCALENDAR
PRODID:-//AT Content Types//AT Event//EN
VERSION:1.0
BEGIN:VEVENT
DTSTART:20130607T120000Z
DTEND:20130607T133000Z
DCREATED:20121221T140917Z
UID:ATEvent-cc9293e7ae18828f623432126634f9e5
SEQUENCE:0
LAST-MODIFIED:20121221T140917Z
SUMMARY:ESP-AM
LOCATION:Lecture Room H
PRIORITY:3
TRANSP:0
END:VEVENT
END:VCALENDAR
