BEGIN:VCALENDAR
PRODID:-//AT Content Types//AT Event//EN
VERSION:1.0
BEGIN:VEVENT
DTSTART:20130520T120000Z
DTEND:20130520T133000Z
DCREATED:20121221T140609Z
UID:ATEvent-f084bee3a941767a95c99146eba345d5
SEQUENCE:0
LAST-MODIFIED:20121221T140610Z
SUMMARY:ESP-EE
LOCATION:Lecture Room H
PRIORITY:3
TRANSP:0
END:VEVENT
END:VCALENDAR
