BEGIN:VCALENDAR
PRODID:-//AT Content Types//AT Event//EN
VERSION:2.0
METHOD:PUBLISH
BEGIN:VEVENT
DTSTAMP:20260419T225624Z
CREATED:20121221T131440Z
UID:ATEvent-1b67caf90cd07fb35e58e981eeec8b72
LAST-MODIFIED:20121221T131440Z
SUMMARY:ESP-CD
DTSTART:20130403T090000Z
DTEND:20130403T103000Z
LOCATION:Lecture Room H
CONTACT:F. Kucharski
URL:https://diploma-clear.ictp.it/courses/weekly-schedule/lecture-room-h/lecture.2012-12-21.6804459715
CLASS:PUBLIC
END:VEVENT
END:VCALENDAR
