BEGIN:VCALENDAR
PRODID:-//AT Content Types//AT Event//EN
VERSION:2.0
METHOD:PUBLISH
BEGIN:VEVENT
DTSTAMP:20260422T002911Z
CREATED:20121221T131438Z
UID:ATEvent-6adbfbbcc030da5c580c7f27afa10bef
LAST-MODIFIED:20121221T131438Z
SUMMARY:ESP-CD
DTSTART:20130322T100000Z
DTEND:20130322T113000Z
LOCATION:Lecture Room H
CONTACT:F. Kucharski
URL:https://diploma-clear.ictp.it/courses/weekly-schedule/lecture-room-h/lecture.2012-12-21.6780230628
CLASS:PUBLIC
END:VEVENT
END:VCALENDAR
