BEGIN:VCALENDAR
PRODID:-//AT Content Types//AT Event//EN
VERSION:2.0
METHOD:PUBLISH
BEGIN:VEVENT
DTSTAMP:20260420T221306Z
CREATED:20121221T131437Z
UID:ATEvent-5172ee1054314377ab7363d6b5c1aba3
LAST-MODIFIED:20121221T131438Z
SUMMARY:ESP-CD
DTSTART:20130320T100000Z
DTEND:20130320T113000Z
LOCATION:Lecture Room H
CONTACT:F. Kucharski
URL:https://diploma-clear.ictp.it/courses/weekly-schedule/lecture-room-h/lecture.2012-12-21.6775810440
CLASS:PUBLIC
END:VEVENT
END:VCALENDAR
