BEGIN:VCALENDAR
PRODID:-//AT Content Types//AT Event//EN
VERSION:1.0
BEGIN:VEVENT
DTSTART:20130313T100000Z
DTEND:20130313T113000Z
DCREATED:20121221T131436Z
UID:ATEvent-fe69e79020d3e7dc41dd19b5d15b3a67
SEQUENCE:0
LAST-MODIFIED:20121221T131436Z
SUMMARY:ESP-CD
LOCATION:Lecture Room H
PRIORITY:3
TRANSP:0
END:VEVENT
END:VCALENDAR
