BEGIN:VCALENDAR
PRODID:-//AT Content Types//AT Event//EN
VERSION:1.0
BEGIN:VEVENT
DTSTART:20130311T100000Z
DTEND:20130311T113000Z
DCREATED:20121221T131435Z
UID:ATEvent-92fea054f58ed2575a423891d0ea4957
SEQUENCE:0
LAST-MODIFIED:20121221T131436Z
SUMMARY:ESP-CD
LOCATION:Lecture Room H
PRIORITY:3
TRANSP:0
END:VEVENT
END:VCALENDAR
