BEGIN:VCALENDAR
PRODID:-//AT Content Types//AT Event//EN
VERSION:2.0
METHOD:PUBLISH
BEGIN:VEVENT
DTSTAMP:20260426T014818Z
CREATED:20121221T142033Z
UID:ATEvent-8bb89f13ff4446cb00b3b06c92d5f318
LAST-MODIFIED:20121221T142033Z
SUMMARY:ESP-AM
DTSTART:20130603T140000Z
DTEND:20130603T153000Z
LOCATION:Lecture Room H
CONTACT:F. Stel
URL:https://diploma-clear.ictp.it/courses/weekly-schedule/lecture-room-h/lecture.2012-12-21.6332943397
CLASS:PUBLIC
END:VEVENT
END:VCALENDAR
