BEGIN:VCALENDAR
PRODID:-//AT Content Types//AT Event//EN
VERSION:2.0
METHOD:PUBLISH
BEGIN:VEVENT
DTSTAMP:20260419T171510Z
CREATED:20121221T132054Z
UID:ATEvent-bd4a838f49b183e3d25468774792054f
LAST-MODIFIED:20130308T131710Z
SUMMARY:ESP-HYD
DTSTART:20130320T080000Z
DTEND:20130320T093000Z
LOCATION:Lecture Room H
CONTACT:E. Coppola
URL:https://diploma-clear.ictp.it/courses/weekly-schedule/lecture-room-h/lecture.2012-12-21.0543617812
CLASS:PUBLIC
END:VEVENT
END:VCALENDAR
