BEGIN:VCALENDAR
PRODID:-//AT Content Types//AT Event//EN
VERSION:2.0
METHOD:PUBLISH
BEGIN:VEVENT
DTSTAMP:20260422T034021Z
CREATED:20121219T154550Z
UID:ATEvent-85d22002aaff56b53a38d9cb59e04f2f
LAST-MODIFIED:20121219T154550Z
SUMMARY:ESP-BC
DTSTART:20130404T090000Z
DTEND:20130404T103000Z
LOCATION:Lecture Room H
CONTACT:F. Solmon
URL:https://diploma-clear.ictp.it/courses/weekly-schedule/lecture-room-h/lecture.2012-12-19.9504776104
CLASS:PUBLIC
END:VEVENT
END:VCALENDAR
