BEGIN:VCALENDAR
PRODID:-//AT Content Types//AT Event//EN
VERSION:2.0
METHOD:PUBLISH
BEGIN:VEVENT
DTSTAMP:20260419T171502Z
CREATED:20121219T154548Z
UID:ATEvent-9eaa73f8f562cf3f5dd5bd80d28a773a
LAST-MODIFIED:20121219T154548Z
SUMMARY:ESP-BC
DTSTART:20130319T100000Z
DTEND:20130319T113000Z
LOCATION:Lecture Room H
CONTACT:F. Solmon
URL:https://diploma-clear.ictp.it/courses/weekly-schedule/lecture-room-h/lecture.2012-12-19.9481269494
CLASS:PUBLIC
END:VEVENT
END:VCALENDAR
