BEGIN:VCALENDAR
PRODID:-//AT Content Types//AT Event//EN
VERSION:1.0
BEGIN:VEVENT
DTSTART:20121126T080000Z
DTEND:20121126T093000Z
DCREATED:20121019T100231Z
UID:ATEvent-56e1583b82a7b6df5a6ac8dfb60320c8
SEQUENCE:0
LAST-MODIFIED:20121019T100231Z
SUMMARY:ESP-PO
LOCATION:Lecture Room H
PRIORITY:3
TRANSP:0
END:VEVENT
END:VCALENDAR
