BEGIN:VCALENDAR
PRODID:-//AT Content Types//AT Event//EN
VERSION:1.0
BEGIN:VEVENT
DTSTART:20121106T130000Z
DTEND:20121106T143000Z
DCREATED:20120903T091301Z
UID:ATEvent-c4ef91e89f15a84ce7d92cc6a2545c09
SEQUENCE:0
LAST-MODIFIED:20120903T091302Z
SUMMARY:ESP-EST
LOCATION:Lecture Room H
PRIORITY:3
TRANSP:0
END:VEVENT
END:VCALENDAR
