BEGIN:VCALENDAR
PRODID:-//AT Content Types//AT Event//EN
VERSION:2.0
METHOD:PUBLISH
BEGIN:VEVENT
DTSTAMP:20260425T162040Z
CREATED:20120902T095619Z
UID:ATEvent-2458d131e89abc9cb26c0e6e35a3d730
LAST-MODIFIED:20120903T090925Z
SUMMARY:ESP-EST
DTSTART:20121029T130000Z
DTEND:20121029T143000Z
LOCATION:Lecture Room H
CONTACT:A. Tompkins
URL:https://diploma-clear.ictp.it/courses/weekly-schedule/lecture-room-h/lecture.2012-09-02.7789317204
CLASS:PUBLIC
END:VEVENT
END:VCALENDAR
