BEGIN:VCALENDAR
PRODID:-//AT Content Types//AT Event//EN
VERSION:1.0
BEGIN:VEVENT
DTSTART:20121023T120000Z
DTEND:20121023T133000Z
DCREATED:20120902T095617Z
UID:ATEvent-9100960542b02abe5aab84e8a9d51efb
SEQUENCE:0
LAST-MODIFIED:20120903T090715Z
SUMMARY:ESP-EST
LOCATION:Lecture Room H
PRIORITY:3
TRANSP:0
END:VEVENT
END:VCALENDAR
