BEGIN:VCALENDAR
PRODID:-//AT Content Types//AT Event//EN
VERSION:2.0
METHOD:PUBLISH
BEGIN:VEVENT
DTSTAMP:20260421T134120Z
CREATED:20120902T094621Z
UID:ATEvent-88dba995a465188270b915e0c8125bb2
LAST-MODIFIED:20120902T094621Z
SUMMARY:ESP-FM
DTSTART:20120918T070000Z
DTEND:20120918T083000Z
LOCATION:Lecture Room H
CONTACT:R. Farneti
URL:https://diploma-clear.ictp.it/courses/weekly-schedule/lecture-room-h/lecture.2012-09-02.1812968017
CLASS:PUBLIC
END:VEVENT
END:VCALENDAR
