BEGIN:VCALENDAR
PRODID:-//AT Content Types//AT Event//EN
VERSION:1.0
BEGIN:VEVENT
DTSTART:20120607T090000Z
DTEND:20120607T103000Z
DCREATED:20120213T110827Z
UID:ATEvent-f986114f5ff155e35b61964bc2e87ce1
SEQUENCE:0
LAST-MODIFIED:20120213T110828Z
SUMMARY:PHY-PES
LOCATION:Lecture Room H
PRIORITY:3
TRANSP:0
END:VEVENT
END:VCALENDAR
