BEGIN:VCALENDAR
PRODID:-//AT Content Types//AT Event//EN
VERSION:2.0
METHOD:PUBLISH
BEGIN:VEVENT
DTSTAMP:20260422T015545Z
CREATED:20120213T110827Z
UID:ATEvent-86187b05bed2629e6fa78981507b87dd
LAST-MODIFIED:20120213T110827Z
SUMMARY:PHY-PES
DTSTART:20120605T090000Z
DTEND:20120605T103000Z
LOCATION:Lecture Room H
CONTACT:A. Tompkins
URL:https://diploma-clear.ictp.it/courses/weekly-schedule/lecture-room-h/lecture.2012-02-13.3070740281
CLASS:PUBLIC
END:VEVENT
END:VCALENDAR
