BEGIN:VCALENDAR
PRODID:-//AT Content Types//AT Event//EN
VERSION:2.0
METHOD:PUBLISH
BEGIN:VEVENT
DTSTAMP:20260420T153413Z
CREATED:20120213T103420Z
UID:ATEvent-ce27577ad16e2337038e405d7e71b248
LAST-MODIFIED:20120213T103619Z
SUMMARY:PHY-AEM
DTSTART:20120229T150000Z
DTEND:20120229T163000Z
LOCATION:Lecture Room H
CONTACT:M. Fabbrichesi
URL:https://diploma-clear.ictp.it/courses/weekly-schedule/lecture-room-h/lecture.2012-02-13.2600787896
CLASS:PUBLIC
END:VEVENT
END:VCALENDAR
