BEGIN:VCALENDAR
PRODID:-//AT Content Types//AT Event//EN
VERSION:1.0
BEGIN:VEVENT
DTSTART:20120613T070000Z
DTEND:20120613T083000Z
DCREATED:20120203T143811Z
UID:ATEvent-c1ac85d00337a1162a8288de98f51591
SEQUENCE:0
LAST-MODIFIED:20120203T143811Z
SUMMARY:PHY-SSP
LOCATION:Lecture Room H
PRIORITY:3
TRANSP:0
END:VEVENT
END:VCALENDAR
