BEGIN:VCALENDAR
PRODID:-//AT Content Types//AT Event//EN
VERSION:1.0
BEGIN:VEVENT
DTSTART:20120611T070000Z
DTEND:20120611T083000Z
DCREATED:20120203T143805Z
UID:ATEvent-4d0f63ba328efcfafa9d6e005628cf1f
SEQUENCE:0
LAST-MODIFIED:20120203T143810Z
SUMMARY:PHY-SSP
LOCATION:Lecture Room H
PRIORITY:3
TRANSP:0
END:VEVENT
END:VCALENDAR
