BEGIN:VCALENDAR
PRODID:-//AT Content Types//AT Event//EN
VERSION:1.0
BEGIN:VEVENT
DTSTART:20120523T120000Z
DTEND:20120523T133000Z
DCREATED:20120130T151712Z
UID:ATEvent-be8c15a73ce26f8c64adaf44f5ba3548
SEQUENCE:0
LAST-MODIFIED:20120130T151712Z
SUMMARY:PHY-AQM
LOCATION:Lecture Room H
PRIORITY:3
TRANSP:0
END:VEVENT
END:VCALENDAR
