BEGIN:VCALENDAR
PRODID:-//AT Content Types//AT Event//EN
VERSION:2.0
METHOD:PUBLISH
BEGIN:VEVENT
DTSTAMP:20260421T061504Z
CREATED:20111219T174101Z
UID:ATEvent-e506163e92f79e864cf92772562d9b68
LAST-MODIFIED:20111219T174101Z
SUMMARY:ESP-SEIS
DTSTART:20120213T100000Z
DTEND:20120213T113000Z
LOCATION:Lecture Room H
CONTACT:F. Romanelli
URL:https://diploma-clear.ictp.it/courses/weekly-schedule/lecture-room-h/lecture.2011-12-19.4609821962
CLASS:PUBLIC
END:VEVENT
END:VCALENDAR
