BEGIN:VCALENDAR
PRODID:-//AT Content Types//AT Event//EN
VERSION:1.0
BEGIN:VEVENT
DTSTART:20120203T100000Z
DTEND:20120203T113000Z
DCREATED:20111219T174059Z
UID:ATEvent-937be6e1f445b4115013c4d14bc218eb
SEQUENCE:0
LAST-MODIFIED:20111219T174059Z
SUMMARY:ESP-SEIS
LOCATION:Lecture Room H
PRIORITY:3
TRANSP:0
END:VEVENT
END:VCALENDAR
