BEGIN:VCALENDAR
PRODID:-//AT Content Types//AT Event//EN
VERSION:2.0
METHOD:PUBLISH
BEGIN:VEVENT
DTSTAMP:20260421T061343Z
CREATED:20111219T174059Z
UID:ATEvent-629756ceacc0e1b45e4eb3ef41ca3ee9
LAST-MODIFIED:20111219T174059Z
SUMMARY:ESP-SEIS
DTSTART:20120201T100000Z
DTEND:20120201T113000Z
LOCATION:Lecture Room H
CONTACT:F. Romanelli
URL:https://diploma-clear.ictp.it/courses/weekly-schedule/lecture-room-h/lecture.2011-12-19.4587628153
CLASS:PUBLIC
END:VEVENT
END:VCALENDAR
