BEGIN:VCALENDAR
PRODID:-//AT Content Types//AT Event//EN
VERSION:1.0
BEGIN:VEVENT
DTSTART:20120202T080000Z
DTEND:20120202T093000Z
DCREATED:20111219T174050Z
UID:ATEvent-e5edccd45372503875fa25cb57e96fa9
SEQUENCE:0
LAST-MODIFIED:20111219T174050Z
SUMMARY:ESP-FM
LOCATION:Lecture Room H
PRIORITY:3
TRANSP:0
END:VEVENT
END:VCALENDAR
