BEGIN:VCALENDAR
PRODID:-//AT Content Types//AT Event//EN
VERSION:2.0
METHOD:PUBLISH
BEGIN:VEVENT
DTSTAMP:20260423T035719Z
CREATED:20111219T173920Z
UID:ATEvent-06a2264038987b94cac5b943f6bb05b1
LAST-MODIFIED:20120312T103218Z
SUMMARY:ESP-BC
DTSTART:20120329T090000Z
DTEND:20120329T103000Z
LOCATION:Lecture Room H
CONTACT:F. Solmon
URL:https://diploma-clear.ictp.it/courses/weekly-schedule/lecture-room-h/lecture.2011-12-19.3601445862
CLASS:PUBLIC
END:VEVENT
END:VCALENDAR
