BEGIN:VCALENDAR
PRODID:-//AT Content Types//AT Event//EN
VERSION:1.0
BEGIN:VEVENT
DTSTART:20090218T100000Z
DTEND:20090218T113000Z
DCREATED:20081013T101037Z
UID:ATEvent-19e8b272f1cd05fd079fb51773a56b62
SEQUENCE:0
LAST-MODIFIED:20081013T101037Z
SUMMARY:BP-AEM
LOCATION:Lecture Room H
PRIORITY:3
TRANSP:0
END:VEVENT
END:VCALENDAR
