BEGIN:VCALENDAR
PRODID:-//AT Content Types//AT Event//EN
VERSION:1.0
BEGIN:VEVENT
DTSTART:20090128T100000Z
DTEND:20090128T113000Z
DCREATED:20081013T101032Z
UID:ATEvent-a19a4e355bb21d98d01043efe7776dfa
SEQUENCE:0
LAST-MODIFIED:20081013T101032Z
SUMMARY:BP-AEM
LOCATION:Lecture Room H
PRIORITY:3
TRANSP:0
END:VEVENT
END:VCALENDAR
