BEGIN:VCALENDAR
PRODID:-//AT Content Types//AT Event//EN
VERSION:2.0
METHOD:PUBLISH
BEGIN:VEVENT
DTSTAMP:20260419T211547Z
CREATED:20081013T101028Z
UID:ATEvent-c3cb0463f497b9ceb63aa23b8c2f4be7
LAST-MODIFIED:20081013T101029Z
SUMMARY:BP-AEM
DTSTART:20090112T100000Z
DTEND:20090112T113000Z
LOCATION:Lecture Room H
CONTACT:Xunqiang Bi
URL:https://diploma-clear.ictp.it/courses/weekly-schedule/lecture-room-h/lecture.2008-10-13.6285987999
CLASS:PUBLIC
END:VEVENT
END:VCALENDAR
