BEGIN:VCALENDAR
PRODID:-//AT Content Types//AT Event//EN
VERSION:1.0
BEGIN:VEVENT
DTSTART:20081013T070000Z
DTEND:20081013T083000Z
DCREATED:20081013T090321Z
UID:ATEvent-ee1b9054b20df9aea162a5892f9bfdea
SEQUENCE:0
LAST-MODIFIED:20081013T090321Z
SUMMARY:ESP-MMG
LOCATION:Lecture Room H
PRIORITY:3
TRANSP:0
END:VEVENT
END:VCALENDAR
