BEGIN:VCALENDAR
PRODID:-//AT Content Types//AT Event//EN
VERSION:1.0
BEGIN:VEVENT
DTSTART:20090209T130000Z
DTEND:20090209T143000Z
DCREATED:20081013T095037Z
UID:ATEvent-a578bb93177b3d7844e30fb757232f75
SEQUENCE:0
LAST-MODIFIED:20081013T095038Z
SUMMARY:BP-QM
LOCATION:Lecture Room H
PRIORITY:3
TRANSP:0
END:VEVENT
END:VCALENDAR
